BEGIN:VCALENDAR
VERSION:2.0
PRODID:-//Sutter Buttes Regional Land Trust - ECPv6.15.20//NONSGML v1.0//EN
CALSCALE:GREGORIAN
METHOD:PUBLISH
X-WR-CALNAME:Sutter Buttes Regional Land Trust
X-ORIGINAL-URL:https://sutterbutteslandtrust.org
X-WR-CALDESC:Events for Sutter Buttes Regional Land Trust
REFRESH-INTERVAL;VALUE=DURATION:PT1H
X-Robots-Tag:noindex
X-PUBLISHED-TTL:PT1H
BEGIN:VTIMEZONE
TZID:UTC
BEGIN:STANDARD
TZOFFSETFROM:+0000
TZOFFSETTO:+0000
TZNAME:UTC
DTSTART:20230101T000000
END:STANDARD
END:VTIMEZONE
BEGIN:VEVENT
DTSTART;TZID=UTC:20240823T180000
DTEND;TZID=UTC:20240823T200000
DTSTAMP:20260420T064624
CREATED:20221025T171248Z
LAST-MODIFIED:20240717T225143Z
UID:1828-1724436000-1724443200@sutterbutteslandtrust.org
SUMMARY:2025 Sutter Buttes Photographers Reception
DESCRIPTION:Join us in recognition of the winning 2025 Sutter Buttes calendar photographers and in appreciation of our sponsors.  Appetizers and drinks will be provided.  Purchase a 2025 calendar or a printed copy of your favorite calendar exhibit photo.
URL:https://sutterbutteslandtrust.org/event/2024-sutter-buttes-calendar-reception/
LOCATION:Sutter County Museum\, 1333 Butte House Rd\, Yuba City\, CA\, 95993\, United States
CATEGORIES:Events
ORGANIZER;CN="Lisa Lindman":MAILTO:exectivedirector@sutterbutteslandtrust.org
END:VEVENT
END:VCALENDAR