BEGIN:VCALENDAR
VERSION:2.0
PRODID:-//Sutter Buttes Regional Land Trust - ECPv6.15.20//NONSGML v1.0//EN
CALSCALE:GREGORIAN
METHOD:PUBLISH
X-ORIGINAL-URL:https://sutterbutteslandtrust.org
X-WR-CALDESC:Events for Sutter Buttes Regional Land Trust
REFRESH-INTERVAL;VALUE=DURATION:PT1H
X-Robots-Tag:noindex
X-PUBLISHED-TTL:PT1H
BEGIN:VTIMEZONE
TZID:UTC
BEGIN:STANDARD
TZOFFSETFROM:+0000
TZOFFSETTO:+0000
TZNAME:UTC
DTSTART:20230101T000000
END:STANDARD
END:VTIMEZONE
BEGIN:VEVENT
DTSTART;TZID=UTC:20241108T073000
DTEND;TZID=UTC:20241110T170000
DTSTAMP:20260420T050702
CREATED:20221025T171620Z
LAST-MODIFIED:20240416T234733Z
UID:1832-1731051000-1731258000@sutterbutteslandtrust.org
SUMMARY:California Swan Festival
DESCRIPTION:Sutter Buttes Regional Land Trust is thrilled to be hosting the California Swan Festival in Marysville\, celebrating the return of the graceful tundra swans and other migrating waterfowl that make their winter home in the verdant rice fields and wetlands in the North Sacramento Valley.  This spectacular three-day birding festival is a must-see for bird and animal lovers alike.  Enjoy bird-watching tours\, explore the beauty of local flora and fauna\, hike in the mysterious Sutter Buttes volcanic range\, visit a local rice farm\, or be captivated by our knowledgeable presenters.  The festival will have a variety of tours and activities for all interest levels and ages. \n  \n 
URL:https://sutterbutteslandtrust.org/event/swan-festival/
LOCATION:Yuba College\, 2088 N Beale Road\, MARYSVILLE\, CA\, 95901\, United States
ATTACH;FMTTYPE=image/png:https://sutterbutteslandtrust.org/wp-content/uploads/2022/10/Screenshot-2024-03-01-at-11.04.43-AM.png
END:VEVENT
BEGIN:VEVENT
DTSTART;TZID=UTC:20251202T070000
DTEND;TZID=UTC:20251215T170000
DTSTAMP:20260420T050702
CREATED:20251125T153517Z
LAST-MODIFIED:20251125T153518Z
UID:6340-1764658800-1765818000@sutterbutteslandtrust.org
SUMMARY:Giving Tuesday
DESCRIPTION:When you look toward the Sutter Buttes\, you are looking at more than a mountain range—you are looking at a region where history\, agriculture\, and nature thrive together. \nThe Sutter Buttes Land Trust understands that the health of the iconic peaks depends on the health of the lands below. That’s why we focus on securing conservation easements on the working ranches\, fertile fields\, and critical waterways throughout the Sutter Buttes Region. \nThis #GivingTuesday\, we ask you to support the quiet\, persistent work that protects this essential balance by supporting our operations and outreach work. \nYour gift ensures that the land we farm remains productive\, the water remains clean\, and the wildlife that moves through the region has the healthy habitat it needs to thrive. Receive a 2026 Calendar as our thank you for donations $30 and up! \nEvery dollar makes you a partner in regional stewardship and GiveButter will match 1%! \nDonate to Giving Tuesday
URL:https://sutterbutteslandtrust.org/event/giving-tuesday/
CATEGORIES:Fundraiser
ATTACH;FMTTYPE=image/jpeg:https://sutterbutteslandtrust.org/wp-content/uploads/2025/07/CoverPhoto.jpg
ORGANIZER;CN="Lisa Lindman":MAILTO:exectivedirector@sutterbutteslandtrust.org
END:VEVENT
END:VCALENDAR